BEGIN:VCALENDAR
VERSION:2.0
PRODID:-//Claire Boscq Keynote Speaker l Heart-Led Business Growth Creator - ECPv6.15.20//NONSGML v1.0//EN
CALSCALE:GREGORIAN
METHOD:PUBLISH
X-ORIGINAL-URL:https://claireboscq.com
X-WR-CALDESC:Events for Claire Boscq Keynote Speaker l Heart-Led Business Growth Creator
REFRESH-INTERVAL;VALUE=DURATION:PT1H
X-Robots-Tag:noindex
X-PUBLISHED-TTL:PT1H
BEGIN:VTIMEZONE
TZID:Europe/London
BEGIN:DAYLIGHT
TZOFFSETFROM:+0000
TZOFFSETTO:+0100
TZNAME:BST
DTSTART:20230326T010000
END:DAYLIGHT
BEGIN:STANDARD
TZOFFSETFROM:+0100
TZOFFSETTO:+0000
TZNAME:GMT
DTSTART:20231029T010000
END:STANDARD
BEGIN:DAYLIGHT
TZOFFSETFROM:+0000
TZOFFSETTO:+0100
TZNAME:BST
DTSTART:20240331T010000
END:DAYLIGHT
BEGIN:STANDARD
TZOFFSETFROM:+0100
TZOFFSETTO:+0000
TZNAME:GMT
DTSTART:20241027T010000
END:STANDARD
BEGIN:DAYLIGHT
TZOFFSETFROM:+0000
TZOFFSETTO:+0100
TZNAME:BST
DTSTART:20250330T010000
END:DAYLIGHT
BEGIN:STANDARD
TZOFFSETFROM:+0100
TZOFFSETTO:+0000
TZNAME:GMT
DTSTART:20251026T010000
END:STANDARD
END:VTIMEZONE
BEGIN:VEVENT
DTSTART;TZID=Europe/London:20241217T080000
DTEND;TZID=Europe/London:20241217T090000
DTSTAMP:20260423T153023
CREATED:20241013T122155Z
LAST-MODIFIED:20241117T141340Z
UID:3665-1734422400-1734426000@claireboscq.com
SUMMARY:Training\, an Investment NOT a Cost!!
DESCRIPTION:Hosted by the Jersey Customer Experience Alliance \nDate:\nTuesday 17th December \nTime:\n8am – 9am \nLocation:\nKingsman Office Suite\, Osprey House \nEvent Overview:\nJoin us for an insightful session led by Joanne Vandermerwe-Mahon\, founder of Profit on a Plate\, as she dives into the vital role of training in driving business success. Contrary to the common misconception that training is merely a cost\, Joanne will demonstrate how investing in the right skills and knowledge can elevate customer experience\, boost team performance\, and deliver long-term financial gains. \nWhat You Will Learn: \n\nWhy training is an essential investment for sustainable growth\nThe impact of well-trained employees on customer satisfaction and loyalty\nStrategies to align training programs with your business objectives\nReal-world examples of businesses thriving from investing in their teams\n\nAbout the Speaker:\nJoanne Vandermerwe-Mahon is a seasoned expert in business growth and founder of Profit on a Plate. With a focus on helping businesses enhance their service offerings and customer experience\, Joanne brings a wealth of knowledge on how to turn employee training into a powerful business tool. Her practical insights are sure to inspire and equip you to rethink how you approach training within your organisation. \nWho Should Attend:\nThis event is ideal for business owners\, HR professionals\, team leaders\, and anyone passionate about developing their teams to deliver exceptional customer experiences. \nRSVP Today:\nA perfect opportunity to transform how you view training in your organisation. Secure your spot today!
URL:https://claireboscq.com/event/training-an-investment-not-a-cost/
LOCATION:Kingsman Executive Office Suites Osprey House\, Osprey House\, Old St\,\, St Helier\,\, Jersey\, JE2 3RF\, United Kingdom
CATEGORIES:In-person presentation
END:VEVENT
END:VCALENDAR