BEGIN:VCALENDAR
VERSION:2.0
PRODID:-//Claire Boscq Keynote Speaker l Heart-Led Business Growth Creator - ECPv6.15.20//NONSGML v1.0//EN
CALSCALE:GREGORIAN
METHOD:PUBLISH
X-ORIGINAL-URL:https://claireboscq.com
X-WR-CALDESC:Events for Claire Boscq Keynote Speaker l Heart-Led Business Growth Creator
REFRESH-INTERVAL;VALUE=DURATION:PT1H
X-Robots-Tag:noindex
X-PUBLISHED-TTL:PT1H
BEGIN:VTIMEZONE
TZID:Europe/London
BEGIN:DAYLIGHT
TZOFFSETFROM:+0000
TZOFFSETTO:+0100
TZNAME:BST
DTSTART:20240331T010000
END:DAYLIGHT
BEGIN:STANDARD
TZOFFSETFROM:+0100
TZOFFSETTO:+0000
TZNAME:GMT
DTSTART:20241027T010000
END:STANDARD
BEGIN:DAYLIGHT
TZOFFSETFROM:+0000
TZOFFSETTO:+0100
TZNAME:BST
DTSTART:20250330T010000
END:DAYLIGHT
BEGIN:STANDARD
TZOFFSETFROM:+0100
TZOFFSETTO:+0000
TZNAME:GMT
DTSTART:20251026T010000
END:STANDARD
BEGIN:DAYLIGHT
TZOFFSETFROM:+0000
TZOFFSETTO:+0100
TZNAME:BST
DTSTART:20260329T010000
END:DAYLIGHT
BEGIN:STANDARD
TZOFFSETFROM:+0100
TZOFFSETTO:+0000
TZNAME:GMT
DTSTART:20261025T010000
END:STANDARD
END:VTIMEZONE
BEGIN:VEVENT
DTSTART;TZID=Europe/London:20250812T180000
DTEND;TZID=Europe/London:20250923T210000
DTSTAMP:20260421T021255
CREATED:20250609T164821Z
LAST-MODIFIED:20250902T115228Z
UID:3858-1755021600-1758661200@claireboscq.com
SUMMARY:Jersey Speaker Factor
DESCRIPTION:Brought to you by the Virtual Speaker Association International (Jersey Chapter)\nAre you an aspiring speaker ready to take the mic and launch your speaking career? \nThis summer\, we’re inviting Jersey’s boldest voices\, brightest ideas\, and most inspiring storytellers to take the stage in our Speaker Factor OPEN-MIC Series. Whether you’re an experienced speaker or just starting out\, this is your moment to shine\, grow\, and connect. \nOver 5 weeks of exciting open-mic style evenings\, 6 speakers (application form below) will take the stage\, live in Jersey\, each week for 15 minutes\, followed by friendly\, non-judgemental feedback from a panel of professional speakers and mentors. \nFollowing the Speaker Factor Open-Mic Series\, you’ll have the opportunity to apply for a place in our Speaker Showcase this November\, a chance to take your speaking career to the next level and start stepping onto bigger stages. \n\nWhy apply?\n\nRaise your profile as a speaker\nGet expert feedback to sharpen your skills\nStep outside your comfort zone and grow in confidence\nNetwork with business leaders\, event organisers\, and fellow speakers\nBe in with a chance to feature in the Speaker Showcase and kickstart your speaking career\nLearn practical tips and tools from international keynote speakers to elevate your public speaking\nAnd of course… have a lot of fun along the way!\n\n\nEvent highlights\n\nWeekly speaker evenings across August & September\n15-minute talk + 5-minute feedback\n6 speakers per night at The Sundown\n\n\n Who can apply?\n\nAspiring or established speakers\nProfessionals who speak in boardrooms\, team meetings\, or in front of crowds\nAnyone with a message to share and the desire to grow their confidence and impact\nAny topic welcome: business\, wellness\, storytelling\, leadership\, creativity… you name it!\nOpen to individuals who want to grow\, learn\, and light up the room\n\nAll speakers are free to choose their own topic and speak on a subject they’re passionate about. Please note that some talks may include sensitive themes or personal experiences. While we encourage thoughtful storytelling in a respectful and inclusive space\, our guidance is that parents of older teens/U18s should be mindful that we are not restricting content and we cannot guarantee that talks will be appropriate for younger listeners. \n\nReady to apply?\nEvent Dates \nJoin us on any of the following Tuesdays this summer: \nTuesday 5th August 2025: will be a special Speaker Factor Open Evening: a relaxed opportunity to come and meet the mentors\, take a look around the venue\, stand on the stage\, and ask any questions you may have. Whether you’re feeling a little nervous or just want to see what it’s all about\, this evening is designed to help you feel more at ease and excited about the experience ahead. It’s all about making the stage feel less scary and more like a space where you truly belong. \n\nTuesday 12th August 2025\nTuesday 19th August 2025\nTuesday 2nd September 2025\nTuesday 9th September 2025\nTuesday 16th September 2025\nTuesday 23rd September 2025 NOW FULL\n\nPlease note\, this is an in-person event\, in Jersey. You’ll be able to select your preferred date(s) when applying. If fewer than four speakers are booked for a session\, we may invite you to join another date. Click the button below to submit your application: \nLimited spots available! 👉 Apply to Speak Now\nPlease note: It is free to speak at the Speaker Factor Open-Mic Series. However\, if you’re ready to go further and position yourself as a speaker\, you’ll have the opportunity to apply to join the Speaker Showcase on Thursday 22nd January 2026\, a next level event designed to elevate your visibility and credibility. \nThe investment for the Showcase is £488\, which includes a powerful speaker starter package: \n✔️ A 2-hour one-to-one coaching session with a professional speaker coach✔️ A professionally filmed and edited video of your Showcase presentation✔️ A professional headshot to build or refresh your speaker profile✔️ A one-year membership to the Virtual Speaker Association International (VSAI)\, connecting you to a global network of opportunities\, events\, and expert support \nThis is your chance to step into the spotlight\, build a strong speaker brand\, and start positioning yourself for bigger stages. It’s more than just a Showcase\, it’s your Speaker launchpad. \nWhy invest?Because this is your springboard to shine! You’ll gain the confidence to speak up\, the tools to craft a powerful talk\, professional video and photos to promote yourself\, and the support of a fabulous community cheering you on. It’s not just a session – it’s your speaker career\, ignited. This is your opportunity to step into the spotlight and walk away with the tools to grow your presence and credibility as a speaker. \n\nMeet the Speaker mentors\nThe Speaker Factor sessions will be hosted by the beautiful Jo Ferbrache\, and our supportive feedback panel of speaker mentors and professional speakers will be there to offer encouragement\, insights\, and tips to help you shine even brighter. \n\nDouglas Kruger:  CPS and Hall of Fame Global Speaker\, bestselling author who champions bold ideas and industry leadership.\nClaire Boscq No 1 Woman Customer eXperience Global Guru\, International Keynote Speaker\, VSAI Jersey Chapter Chair\nNicki Kennedy Communication strategist and voice expert helping speakers craft impactful\, authentic delivery\nLouise Strachan: Founder of Function Event Management and expert in creating high-impact speaker experiences\n\nThey’re here to support\, encourage\, and help you elevate your voice. \n\n\nLet your voice be heard. Inspire. Empower. Connect.\nJoin us for an unforgettable summer of stories\, growth\, and standing ovations. \nShine on stage. Shine in life.
URL:https://claireboscq.com/event/jersey-speaker-factor-open-mic/
LOCATION:Sundown\, 4 Wharf St\,\, St Helier\,\, Jersey\, JE2 3NR
CATEGORIES:In-person presentation
ATTACH;FMTTYPE=image/jpeg:https://claireboscq.com/wp-content/uploads/Copy-of-Banner-BlackYellow-Speaker-Factor-1-1920-x-1080-px.jpg
ORGANIZER;CN="Claire Boscq":MAILTO:hello@claireboscq.com
END:VEVENT
END:VCALENDAR