BEGIN:VCALENDAR
VERSION:2.0
PRODID:-//Claire Boscq Keynote Speaker l Heart-Led Business Growth Creator - ECPv6.15.20//NONSGML v1.0//EN
CALSCALE:GREGORIAN
METHOD:PUBLISH
X-WR-CALNAME:Claire Boscq Keynote Speaker l Heart-Led Business Growth Creator
X-ORIGINAL-URL:https://claireboscq.com
X-WR-CALDESC:Events for Claire Boscq Keynote Speaker l Heart-Led Business Growth Creator
REFRESH-INTERVAL;VALUE=DURATION:PT1H
X-Robots-Tag:noindex
X-PUBLISHED-TTL:PT1H
BEGIN:VTIMEZONE
TZID:Europe/London
BEGIN:DAYLIGHT
TZOFFSETFROM:+0000
TZOFFSETTO:+0100
TZNAME:BST
DTSTART:20230326T010000
END:DAYLIGHT
BEGIN:STANDARD
TZOFFSETFROM:+0100
TZOFFSETTO:+0000
TZNAME:GMT
DTSTART:20231029T010000
END:STANDARD
BEGIN:DAYLIGHT
TZOFFSETFROM:+0000
TZOFFSETTO:+0100
TZNAME:BST
DTSTART:20240331T010000
END:DAYLIGHT
BEGIN:STANDARD
TZOFFSETFROM:+0100
TZOFFSETTO:+0000
TZNAME:GMT
DTSTART:20241027T010000
END:STANDARD
BEGIN:DAYLIGHT
TZOFFSETFROM:+0000
TZOFFSETTO:+0100
TZNAME:BST
DTSTART:20250330T010000
END:DAYLIGHT
BEGIN:STANDARD
TZOFFSETFROM:+0100
TZOFFSETTO:+0000
TZNAME:GMT
DTSTART:20251026T010000
END:STANDARD
END:VTIMEZONE
BEGIN:VEVENT
DTSTART;TZID=Europe/London:20240116T073000
DTEND;TZID=Europe/London:20240116T090000
DTSTAMP:20260422T235347
CREATED:20231213T134024Z
LAST-MODIFIED:20240105T145344Z
UID:2663-1705390200-1705395600@claireboscq.com
SUMMARY:Speed Networking Jersey
DESCRIPTION:Join us for an exciting and dynamic Speed Networking Extravaganza\, where you can expand your professional network in a fun and efficient way! This event is perfect for professionals\, entrepreneurs\, and individuals looking to make meaningful connections on island.\nHow it Works:\n\nStructured rotations: participants will be seated at tables\, and the event will kick off with a brief welcome and introduction. Following that\, each participant will have a fixed amount of time (usually 2 minutes each) to engage in a conversation with the person seated across from them.\nNetworking rounds: a bell will signal the end of each round\, prompting participants to move to the next table to meet a new person. This structured format ensures that everyone has the opportunity to interact with a diverse group of individuals.\nBusiness card exchange: Bring plenty of business cards to share your contact information quickly. This event is all about making efficient connections\, and business cards are a valuable tool for staying in touch.\nCasual environment: while the setting is professional\, the atmosphere is relaxed and conducive to open conversations. Be prepared with a brief introduction about yourself\, your professional background\, and what you are looking to gain from the event.\nFollow-up opportunities: after the speed networking rounds\, there may be opportunities for open networking or a social hour where you can continue conversations with those you connected with during the structured rounds.\n\nWhy Attend:\n\nExpand your professional network rapidly.\nMeet individuals from various industries and backgrounds.\nPractice and enhance your networking skills in a time-efficient manner.\nDiscover potential collaboration opportunities and business prospects.\n\nJoin us for this fantastic chance to build valuable connections and elevate your professional network. \nPlaces are limited to 20\, so book your spot today for a morning of fast-paced networking and meaningful interactions! \nWhen\nTuesday 16th January 2024; \nArrival: 7.30am Tea/Coffee \nSpeed Networking starts: 8am prompt \nEnds: 9.00am \nWhere\nKingsman Executive Office SuitesOspreys House\, Old St\, St Helier\, Jersey JE2 3RF \nCan’t make that one??\nBook our Slow Networking event instead… \n  \nKindly Sponsored by:\n \nBook your ticket
URL:https://claireboscq.com/event/speed-networking-jersey/
LOCATION:Kingsman Executive Office Suites Osprey House\, Osprey House\, Old St\,\, St Helier\,\, Jersey\, JE2 3RF\, United Kingdom
CATEGORIES:Networking
ATTACH;FMTTYPE=image/jpeg:https://claireboscq.com/wp-content/uploads/Speed-Buzzing-image-1536x864-1.jpg
ORGANIZER;CN="Claire Boscq":MAILTO:hello@claireboscq.com
END:VEVENT
END:VCALENDAR